BEGIN:VCALENDAR
VERSION:2.0
PRODID:-//https://sarcrew.lentopelastus.fi///Tapahtumakalenteri//FI
CALSCALE:GREGORIAN
BEGIN:VEVENT
SUMMARY:UAS-PERUSKOULUTUS 2026 Tikkakoski (MPK)
UID:1854
DTSTART:20260401T000000
DTEND:20260426T000000
DTSTAMP:20260407T144340
LOCATION:Verkkokoulutus, Helsinki
DESCRIPTION:\n\nhttps://sarcrew.lentopelastus.fi/Tapahtumat/tapahtumatiedot.aspx?id=1854
END:VEVENT
END:VCALENDAR
